BEGIN:VCALENDAR
CALSCALE:GREGORIAN
VERSION:2.0
METHOD:PUBLISH
BEGIN:VEVENT
UID:49
DTSTAMP:20260423T065721Z
DTSTART:20260609T150000Z
DTEND:20260609T180000Z
SUMMARY:Marchés de l'énergie: la crise est-elle devenue la norme ?
DESCRIPTION:La crise énergétique est un enjeu qui ne dort jamais: entre volatilité persistante et tensions géopolotiques, les marchés de l'énergie continuent de suprendre.Mais que nous réserve l'avenir ?Face aux incertitutes, ne serait-il pas judicieux de revoir sa façon de consommer les énergies ?Quelles sont vos obligations actuelles et futures en tant qu'entreprise ?Comment optimiser sa consommation énergétique pour développer un avantage concurrentiel ?\n\nUrl : https://extranet.akt.be/fr/accueil/0/49/
X-ALT-DESC;FMTTYPE=text/html:<html><body><p class="tag-custom" id="isPasted" style="margin-top: 0px !important;color: rgb(65, 65, 65);font-family: sans-serif;font-size: 14px;font-style: normal;font-weight: 400;text-align: left;text-indent: 0px;background-color: rgb(255, 255, 255);">La crise énergétique est un enjeu qui ne dort jamais: entre volatilité persistante et tensions géopolotiques, les marchés de l'énergie continuent de suprendre.</p><p style="color: rgb(65, 65, 65);font-family: sans-serif;font-size: 14px;font-style: normal;font-weight: 400;text-align: left;text-indent: 0px;background-color: rgb(255, 255, 255);">Mais que nous réserve l'avenir ?</p><p style="color: rgb(65, 65, 65);font-family: sans-serif;font-size: 14px;font-style: normal;font-weight: 400;text-align: left;text-indent: 0px;background-color: rgb(255, 255, 255);">Face aux incertitutes, ne serait-il pas judicieux de revoir sa façon de consommer les énergies ?</p><p style="color: rgb(65, 65, 65);font-family: sans-serif;font-size: 14px;font-style: normal;font-weight: 400;text-align: left;text-indent: 0px;background-color: rgb(255, 255, 255);">Quelles sont vos obligations actuelles et futures en tant qu'entreprise ?</p><p style="margin-bottom: 0px !important;color: rgb(65, 65, 65);font-family: sans-serif;font-size: 14px;font-style: normal;font-weight: 400;text-align: left;text-indent: 0px;background-color: rgb(255, 255, 255);">Comment optimiser sa consommation énergétique pour développer un avantage concurrentiel ?</p><br><br>Url : https://extranet.akt.be/fr/accueil/0/49/</body></html>
LOCATION:CBC Banque
END:VEVENT
END:VCALENDAR