BEGIN:VCALENDAR
CALSCALE:GREGORIAN
VERSION:2.0
METHOD:PUBLISH
BEGIN:VEVENT
UID:48
DTSTAMP:20260422T135958Z
DTSTART:20260526T140000Z
DTEND:20260526T180000Z
SUMMARY:La flexibilité, partenaire des enjeux énergétiques d’aujourd’hui
DESCRIPTION:AKT, en partenariat avec Elia, organise une soirée dédiée à la flexibilité énergétique, qui réunira des experts du secteur, des gestionnaires de réseau et des acteurs industriels afin de décrypter les enjeux actuels, de présenter les outils disponibles et de mettre en lumière les solutions concrètes accessibles aux entreprises.\n\nUrl : https://extranet.akt.be/fr/accueil/0/48/
X-ALT-DESC;FMTTYPE=text/html:<html><body><p class="tag-custom" id="isPasted">AKT, en partenariat avec Elia, organise une soirée dédiée à la flexibilité énergétique, qui réunira des experts du secteur, des gestionnaires de réseau et des acteurs industriels afin de décrypter les enjeux actuels, de présenter les outils disponibles et de mettre en lumière les solutions concrètes accessibles aux entreprises.</p><br><br>Url : https://extranet.akt.be/fr/accueil/0/48/</body></html>
LOCATION:Ecolys (Namur)
END:VEVENT
END:VCALENDAR